BEGIN:VCALENDAR
VERSION:2.0
PRODID:-//connpass.com//Connpass//EN
CALSCALE:GREGORIAN
METHOD:PUBLISH
X-WR-CALDESC:螺子じじ先生「いっそ今度は沼らせて」【抽選】WEBサイン会
X-WR-CALNAME:螺子じじ先生「いっそ今度は沼らせて」【抽選】WEBサイン会
X-WR-TIMEZONE:UTC
BEGIN:VEVENT
SUMMARY:螺子じじ先生「いっそ今度は沼らせて」【抽選】WEBサイン会
DTSTART;TZID=UTC;VALUE=DATE-TIME:20260507T033000Z
DTEND;TZID=UTC;VALUE=DATE-TIME:20260516T145959Z
DTSTAMP;VALUE=DATE-TIME:20260421T013610Z
CREATED;VALUE=DATE-TIME:20260403T062141Z
URL:https://campaign.horinlovebooks.com/event/3896/
DESCRIPTION:
END:VEVENT
END:VCALENDAR
