BEGIN:VCALENDAR
VERSION:2.0
PRODID:-//connpass.com//Connpass//EN
CALSCALE:GREGORIAN
METHOD:PUBLISH
X-WR-CALDESC:CRPN先生「友達なんてやめちゃえば」【抽選】WEBサイン会
X-WR-CALNAME:CRPN先生「友達なんてやめちゃえば」【抽選】WEBサイン会
X-WR-TIMEZONE:UTC
BEGIN:VEVENT
SUMMARY:CRPN先生「友達なんてやめちゃえば」【抽選】WEBサイン会
DTSTART;TZID=UTC;VALUE=DATE-TIME:20260507T033000Z
DTEND;TZID=UTC;VALUE=DATE-TIME:20260516T145959Z
DTSTAMP;VALUE=DATE-TIME:20260421T001505Z
CREATED;VALUE=DATE-TIME:20260403T062306Z
URL:https://campaign.horinlovebooks.com/event/3897/
DESCRIPTION:
END:VEVENT
END:VCALENDAR
