BEGIN:VCALENDAR
VERSION:2.0
PRODID:-//connpass.com//Connpass//EN
CALSCALE:GREGORIAN
METHOD:PUBLISH
X-WR-CALDESC:あさ先生「放っておけない真尋さん」【抽選】WEBサイン会
X-WR-CALNAME:あさ先生「放っておけない真尋さん」【抽選】WEBサイン会
X-WR-TIMEZONE:UTC
BEGIN:VEVENT
SUMMARY:あさ先生「放っておけない真尋さん」【抽選】WEBサイン会
DTSTART;TZID=UTC;VALUE=DATE-TIME:20260507T033000Z
DTEND;TZID=UTC;VALUE=DATE-TIME:20260516T145959Z
DTSTAMP;VALUE=DATE-TIME:20260420T210420Z
CREATED;VALUE=DATE-TIME:20260403T062436Z
URL:https://campaign.horinlovebooks.com/event/3898/
DESCRIPTION:
END:VEVENT
END:VCALENDAR
