BEGIN:VCALENDAR
VERSION:2.0
PRODID:-//connpass.com//Connpass//EN
CALSCALE:GREGORIAN
METHOD:PUBLISH
X-WR-CALDESC:丘野苫先生「ホーム・カム・ホーム」【抽選】WEBサイン会
X-WR-CALNAME:丘野苫先生「ホーム・カム・ホーム」【抽選】WEBサイン会
X-WR-TIMEZONE:UTC
BEGIN:VEVENT
SUMMARY:丘野苫先生「ホーム・カム・ホーム」【抽選】WEBサイン会
DTSTART;TZID=UTC;VALUE=DATE-TIME:20260428T033000Z
DTEND;TZID=UTC;VALUE=DATE-TIME:20260507T145959Z
DTSTAMP;VALUE=DATE-TIME:20260424T175420Z
CREATED;VALUE=DATE-TIME:20260406T042831Z
URL:https://campaign.horinlovebooks.com/event/3907/
DESCRIPTION:
END:VEVENT
END:VCALENDAR
