BEGIN:VCALENDAR
VERSION:2.0
PRODID:-//connpass.com//Connpass//EN
CALSCALE:GREGORIAN
METHOD:PUBLISH
X-WR-CALDESC:壱あらた先生「スキだと言いたいだけなのに　Second」【抽選】WEBサイン会
X-WR-CALNAME:壱あらた先生「スキだと言いたいだけなのに　Second」【抽選】WEBサイン会
X-WR-TIMEZONE:UTC
BEGIN:VEVENT
SUMMARY:壱あらた先生「スキだと言いたいだけなのに　Second」【抽選】WEBサイン会
DTSTART;TZID=UTC;VALUE=DATE-TIME:20260421T033000Z
DTEND;TZID=UTC;VALUE=DATE-TIME:20260430T145959Z
DTSTAMP;VALUE=DATE-TIME:20260421T003829Z
CREATED;VALUE=DATE-TIME:20260403T061022Z
URL:https://campaign.horinlovebooks.com/event/3890/
DESCRIPTION:
END:VEVENT
END:VCALENDAR
