BEGIN:VCALENDAR
VERSION:2.0
PRODID:-//connpass.com//Connpass//EN
CALSCALE:GREGORIAN
METHOD:PUBLISH
X-WR-CALDESC:本郷地下先生「魚と水の森(3)」【抽選】WEBサイン会
X-WR-CALNAME:本郷地下先生「魚と水の森(3)」【抽選】WEBサイン会
X-WR-TIMEZONE:UTC
BEGIN:VEVENT
SUMMARY:本郷地下先生「魚と水の森(3)」【抽選】WEBサイン会
DTSTART;TZID=UTC;VALUE=DATE-TIME:20260421T033000Z
DTEND;TZID=UTC;VALUE=DATE-TIME:20260430T145959Z
DTSTAMP;VALUE=DATE-TIME:20260421T013909Z
CREATED;VALUE=DATE-TIME:20260403T061322Z
URL:https://campaign.horinlovebooks.com/event/3891/
DESCRIPTION:
END:VEVENT
END:VCALENDAR
