BEGIN:VCALENDAR
VERSION:2.0
PRODID:-//connpass.com//Connpass//EN
CALSCALE:GREGORIAN
METHOD:PUBLISH
X-WR-CALDESC:七菱ヒロ先生「獣は贄に愛されたい(上)」【抽選】WEBサイン会
X-WR-CALNAME:七菱ヒロ先生「獣は贄に愛されたい(上)」【抽選】WEBサイン会
X-WR-TIMEZONE:UTC
BEGIN:VEVENT
SUMMARY:七菱ヒロ先生「獣は贄に愛されたい(上)」【抽選】WEBサイン会
DTSTART;TZID=UTC;VALUE=DATE-TIME:20260424T033000Z
DTEND;TZID=UTC;VALUE=DATE-TIME:20260503T145959Z
DTSTAMP;VALUE=DATE-TIME:20260423T115916Z
CREATED;VALUE=DATE-TIME:20260403T061543Z
URL:https://campaign.horinlovebooks.com/event/3892/
DESCRIPTION:
END:VEVENT
END:VCALENDAR
