BEGIN:VCALENDAR
VERSION:2.0
PRODID:-//connpass.com//Connpass//EN
CALSCALE:GREGORIAN
METHOD:PUBLISH
X-WR-CALDESC:黒岬光先生「俺が花嫁に!?(3) 契約結婚のはずがまさかの溺愛ですか?」【抽選】WEBサイン会
X-WR-CALNAME:黒岬光先生「俺が花嫁に!?(3) 契約結婚のはずがまさかの溺愛ですか?」【抽選】WEBサイン会
X-WR-TIMEZONE:UTC
BEGIN:VEVENT
SUMMARY:黒岬光先生「俺が花嫁に!?(3) 契約結婚のはずがまさかの溺愛ですか?」【抽選】WEBサイン会
DTSTART;TZID=UTC;VALUE=DATE-TIME:20260424T033000Z
DTEND;TZID=UTC;VALUE=DATE-TIME:20260503T145959Z
DTSTAMP;VALUE=DATE-TIME:20260423T110550Z
CREATED;VALUE=DATE-TIME:20260403T061704Z
URL:https://campaign.horinlovebooks.com/event/3893/
DESCRIPTION:
END:VEVENT
END:VCALENDAR
