BEGIN:VCALENDAR
VERSION:2.0
PRODID:-//connpass.com//Connpass//EN
CALSCALE:GREGORIAN
METHOD:PUBLISH
X-WR-CALDESC:八木羊次郎先生「あまい言葉は恋に届く」【抽選】WEBサイン会
X-WR-CALNAME:八木羊次郎先生「あまい言葉は恋に届く」【抽選】WEBサイン会
X-WR-TIMEZONE:UTC
BEGIN:VEVENT
SUMMARY:八木羊次郎先生「あまい言葉は恋に届く」【抽選】WEBサイン会
DTSTART;TZID=UTC;VALUE=DATE-TIME:20260424T033000Z
DTEND;TZID=UTC;VALUE=DATE-TIME:20260503T145959Z
DTSTAMP;VALUE=DATE-TIME:20260423T142351Z
CREATED;VALUE=DATE-TIME:20260325T084133Z
URL:https://campaign.horinlovebooks.com/event/3882/
DESCRIPTION:
END:VEVENT
END:VCALENDAR
