BEGIN:VCALENDAR
VERSION:2.0
PRODID:-//connpass.com//Connpass//EN
CALSCALE:GREGORIAN
METHOD:PUBLISH
X-WR-CALDESC:樋口美沙緒先生「愛の巣へ還れ!」【抽選】WEBサイン会
X-WR-CALNAME:樋口美沙緒先生「愛の巣へ還れ!」【抽選】WEBサイン会
X-WR-TIMEZONE:UTC
BEGIN:VEVENT
SUMMARY:樋口美沙緒先生「愛の巣へ還れ!」【抽選】WEBサイン会
DTSTART;TZID=UTC;VALUE=DATE-TIME:20260427T033000Z
DTEND;TZID=UTC;VALUE=DATE-TIME:20260506T145959Z
DTSTAMP;VALUE=DATE-TIME:20260424T193249Z
CREATED;VALUE=DATE-TIME:20260406T041542Z
URL:https://campaign.horinlovebooks.com/event/3900/
DESCRIPTION:
END:VEVENT
END:VCALENDAR
