BEGIN:VCALENDAR
VERSION:2.0
PRODID:-//connpass.com//Connpass//EN
CALSCALE:GREGORIAN
METHOD:PUBLISH
X-WR-CALDESC:窪田マル先生「君となら恋をしてみても(7)」【抽選】WEBサイン会
X-WR-CALNAME:窪田マル先生「君となら恋をしてみても(7)」【抽選】WEBサイン会
X-WR-TIMEZONE:UTC
BEGIN:VEVENT
SUMMARY:窪田マル先生「君となら恋をしてみても(7)」【抽選】WEBサイン会
DTSTART;TZID=UTC;VALUE=DATE-TIME:20260427T033000Z
DTEND;TZID=UTC;VALUE=DATE-TIME:20260506T145959Z
DTSTAMP;VALUE=DATE-TIME:20260424T200032Z
CREATED;VALUE=DATE-TIME:20260406T041726Z
URL:https://campaign.horinlovebooks.com/event/3901/
DESCRIPTION:
END:VEVENT
END:VCALENDAR
