BEGIN:VCALENDAR
VERSION:2.0
PRODID:-//connpass.com//Connpass//EN
CALSCALE:GREGORIAN
METHOD:PUBLISH
X-WR-CALDESC:三ツ矢凡人先生「陰キャな僕が双子に愛される理由(5)」【抽選】WEBサイン会
X-WR-CALNAME:三ツ矢凡人先生「陰キャな僕が双子に愛される理由(5)」【抽選】WEBサイン会
X-WR-TIMEZONE:UTC
BEGIN:VEVENT
SUMMARY:三ツ矢凡人先生「陰キャな僕が双子に愛される理由(5)」【抽選】WEBサイン会
DTSTART;TZID=UTC;VALUE=DATE-TIME:20260427T033000Z
DTEND;TZID=UTC;VALUE=DATE-TIME:20260506T145959Z
DTSTAMP;VALUE=DATE-TIME:20260424T193127Z
CREATED;VALUE=DATE-TIME:20260406T041854Z
URL:https://campaign.horinlovebooks.com/event/3902/
DESCRIPTION:
END:VEVENT
END:VCALENDAR
